BEGIN:VCALENDAR
VERSION:2.0
PRODID:-//eventon.com NONSGML v1.0//EN
CALSCALE:GREGORIAN
METHOD:PUBLISH
BEGIN:VEVENT
UID:69e8e8c268fea
DTSTAMP:20260422T152658Z
DTSTART:20260620T130000Z
DTEND:20260620T190000Z
LOCATION:Downtown Coldwater 10 E Chicago St\,  Coldwater\,  MI 49036
SUMMARY:Strawberry Fest
DESCRIPTION:Strawberry Fest will be happening on June 20 from 9 AM to 3 PM 
 throughout Coldwater’s Downtown. Every year\,  the annual Strawberry Fest
 ival brings together over 200 vendors to sell their food and drinks\,  craf
 ts\,  strawberries\,  and raise money for their nonprofits in Historic Down
 town Coldwater.\nhttps://coldwatercountry.com/events/strawberry-fest/
URL:https://coldwatercountry.com/events/strawberry-fest/
END:VEVENT
END:VCALENDAR