BEGIN:VCALENDAR
VERSION:2.0
PRODID:-//eventon.com NONSGML v1.0//EN
CALSCALE:GREGORIAN
METHOD:PUBLISH
BEGIN:VEVENT
UID:69eb9759144c0
DTSTAMP:20260424T161625Z
DTSTART:20260621T150000Z
DTEND:20260621T163000Z
LOCATION:Little River Railroad 29 W Park Ave\,  Coldwater\,  MI 49036\,  USA
SUMMARY:Father's Day Train
DESCRIPTION:GET A FREE FATHERS TICKET WITH EACH ADULT TICKET!! A round-trip
  steam powered train ride to Quincy\,  MI on our 11am or 2pm ride. Please a
 rrive at the station half an hour before departure to pick up tickets and t
 our our museum. Reservations are highly recommended. ~Ticket Prices~ Adults
  (12[..]\nhttps://coldwatercountry.com/events/fathers-day-train/
URL:https://coldwatercountry.com/events/fathers-day-train/
END:VEVENT
END:VCALENDAR