BEGIN:VCALENDAR
VERSION:2.0
PRODID:-//eventon.com NONSGML v1.0//EN
CALSCALE:GREGORIAN
METHOD:PUBLISH
BEGIN:VEVENT
UID:69e8a1977a00f
DTSTAMP:20260422T102319Z
DTSTART:20260530T233000Z
DTEND:20260531T035900Z
LOCATION:Butler Motor Speedway 1031 Clarendon Rd\,  Quincy MI 49082
SUMMARY:Kubota High Limit Racing - Butler Motor Speedway
DESCRIPTION:Michigan’s fastest 3/8ths mile dirt track will be PACKED as t
 he stars of High Limit Racing go head-to-head in high banked\,  high speed 
 action! Butler Motor Speedway &#8211; Quincy\,  MI Saturday\,  May 30th Cam
 ping Available from May 28th\nhttps://coldwatercountry.com/events/kubota-hi
 gh-limit-racing-butler-motor-speedway/
URL:https://coldwatercountry.com/events/kubota-high-limit-racing-butler-motor-speedway/
END:VEVENT
END:VCALENDAR