BEGIN:VCALENDAR
VERSION:2.0
PRODID:-//eventon.com NONSGML v1.0//EN
CALSCALE:GREGORIAN
METHOD:PUBLISH
BEGIN:VEVENT
UID:69e611319e937
DTSTAMP:20260420T114241Z
DTSTART:20251025T170000Z
DTEND:20251025T210000Z
LOCATION:Tibbits Opera House 14 SOUTH HANCHETT STREET COLDWATER\,  MI 49036
SUMMARY:Tiffany's Treasures
DESCRIPTION:Tiffany&#8217;s Treasures will feature items which traditionall
 y were found in the silent auction\,  and will be available in the Tibbits 
 Art Gallery! As in years past\,  there will be donated items of every kind\
 ,  special services\,  gift certificates\,  baskets and more! At Tiffany&#8
 217;s Treasures\,  items will be grouped by price[..]\nhttps://coldwatercou
 ntry.com/events/tiffanys-treasures/
URL:https://coldwatercountry.com/events/tiffanys-treasures/
END:VEVENT
END:VCALENDAR